BEGIN:VCALENDAR
VERSION:2.0
PRODID:-//CEM //NONSGML Events //EN
CALSCALE:GREGORIAN
X-WR-CALNAME:CEM
BEGIN:VEVENT
CREATED:20210529T041520Z
UID:9565
DTEND;VALUE=DATE:20240121T030000
DTSTART;VALUE=DATE:20240119T080000
DTSTAMP:20260423T083945Z
LOCATION:Nassau\, Bahamas
DESCRIPTION:CEM is pleased to host the 10th annual AlphaNorth Capital Event hosted at the newly renovated Atlantis Resort, Bahamas.&nbsp; The event introduces growth-stage companies (Resource, Technology, Biotech, Special Situations) to active top-level capital finance individuals through a day of scheduled 1:1 meetings.
X-ALT-DESC;FMTTYPE=text/html:CEM is pleased to host the 10th annual AlphaNorth Capital Event hosted at the newly renovated Atlantis Resort, Bahamas.&nbsp; The event introduces growth-stage companies (Resource, Technology, Biotech, Special Situations) to active top-level capital finance individuals through a day of scheduled 1:1 meetings.
SUMMARY:AlphaNorth Capital Event
ORGANIZER:CEM
URL;VALUE=URI:https://cem.ca/conference/alphanorth-capital-event-2024/
TRANSP:OPAQUE
BEGIN:VALARM
ACTION:DISPLAY
TRIGGER;VALUE=DATE-TIME:20240118T080000
END:VALARM
END:VEVENT
END:VCALENDAR

